Package: XAItest Version: 1.0.1 Command: rm -rf XAItest.buildbin-libdir && mkdir XAItest.buildbin-libdir && E:\biocbuild\bbs-3.21-bioc\R\bin\R.exe CMD INSTALL --build --library=XAItest.buildbin-libdir XAItest_1.0.1.tar.gz StartedAt: 2025-08-15 10:34:58 -0400 (Fri, 15 Aug 2025) EndedAt: 2025-08-15 10:35:16 -0400 (Fri, 15 Aug 2025) EllapsedTime: 18.0 seconds RetCode: 0 Status: OK PackageFile: XAItest_1.0.1.zip PackageFileSize: 578.2 KiB