Package: XAItest Version: 1.0.3 Command: /home/biocbuild/R/R/bin/R CMD INSTALL XAItest StartedAt: 2025-10-13 20:35:05 -0000 (Mon, 13 Oct 2025) EndedAt: 2025-10-13 20:35:09 -0000 (Mon, 13 Oct 2025) EllapsedTime: 4.3 seconds RetCode: 0 Status: OK