Package: XAItest Version: 1.0.3 Command: /home/biocbuild/R/R/bin/R CMD build --keep-empty-dirs --no-resave-data XAItest StartedAt: 2025-10-14 05:44:56 -0000 (Tue, 14 Oct 2025) EndedAt: 2025-10-14 05:47:47 -0000 (Tue, 14 Oct 2025) EllapsedTime: 170.1 seconds RetCode: 0 Status: OK PackageFile: XAItest_1.0.3.tar.gz PackageFileSize: 879.2 KiB