Package: VplotR Version: 1.18.0 Command: /Library/Frameworks/R.framework/Resources/bin/R CMD build --keep-empty-dirs --no-resave-data VplotR StartedAt: 2025-10-13 23:32:05 -0400 (Mon, 13 Oct 2025) EndedAt: 2025-10-13 23:35:46 -0400 (Mon, 13 Oct 2025) EllapsedTime: 220.9 seconds RetCode: 0 Status: OK PackageFile: VplotR_1.18.0.tar.gz PackageFileSize: 5.161 MiB