Package: VplotR Version: 1.18.0 Command: rm -rf VplotR.buildbin-libdir && mkdir VplotR.buildbin-libdir && /Users/biocbuild/BBS/utils/build-universal.sh VplotR_1.18.0.tar.gz /Library/Frameworks/R.framework/Resources/bin/R VplotR.buildbin-libdir StartedAt: 2025-10-14 15:03:02 -0400 (Tue, 14 Oct 2025) EndedAt: 2025-10-14 15:04:22 -0400 (Tue, 14 Oct 2025) EllapsedTime: 79.3 seconds RetCode: 0 Status: OK PackageFile: VplotR_1.18.0.tgz PackageFileSize: 5.275 MiB