Package: VplotR Version: 1.18.0 Command: /home/biocbuild/R/R/bin/R CMD build --keep-empty-dirs --no-resave-data VplotR StartedAt: 2025-10-14 05:41:39 -0000 (Tue, 14 Oct 2025) EndedAt: 2025-10-14 05:44:08 -0000 (Tue, 14 Oct 2025) EllapsedTime: 149.1 seconds RetCode: 1 Status: ERROR PackageFile: None PackageFileSize: NA