Package: Voyager Version: 1.10.0 Command: /home/biocbuild/bbs-3.21-bioc/R/bin/R CMD build --keep-empty-dirs --no-resave-data Voyager StartedAt: 2025-10-01 20:34:04 -0400 (Wed, 01 Oct 2025) EndedAt: 2025-10-01 20:35:44 -0400 (Wed, 01 Oct 2025) EllapsedTime: 100.1 seconds RetCode: 0 Status: OK PackageFile: Voyager_1.10.0.tar.gz PackageFileSize: 3.958 MiB