Package: Voyager Version: 1.10.0 Command: /Library/Frameworks/R.framework/Resources/bin/R CMD INSTALL Voyager StartedAt: 2025-09-29 16:55:36 -0400 (Mon, 29 Sep 2025) EndedAt: 2025-09-29 16:56:37 -0400 (Mon, 29 Sep 2025) EllapsedTime: 61.0 seconds RetCode: 0 Status: OK