Package: Voyager Version: 1.10.0 Command: rm -rf Voyager.buildbin-libdir && mkdir Voyager.buildbin-libdir && /Users/biocbuild/BBS/utils/build-universal.sh Voyager_1.10.0.tar.gz /Library/Frameworks/R.framework/Resources/bin/R Voyager.buildbin-libdir StartedAt: 2025-10-01 21:00:02 -0400 (Wed, 01 Oct 2025) EndedAt: 2025-10-01 21:01:11 -0400 (Wed, 01 Oct 2025) EllapsedTime: 68.2 seconds RetCode: 0 Status: OK PackageFile: Voyager_1.10.0.tgz PackageFileSize: 4.644 MiB