Package: ViSEAGO Version: 1.22.0 Command: /home/biocbuild/bbs-3.21-bioc/R/bin/R CMD check --install=check:ViSEAGO.install-out.txt --library=/home/biocbuild/bbs-3.21-bioc/R/site-library --timings ViSEAGO_1.22.0.tar.gz StartedAt: 2025-10-16 04:46:17 -0400 (Thu, 16 Oct 2025) EndedAt: 2025-10-16 04:50:28 -0400 (Thu, 16 Oct 2025) EllapsedTime: 251.3 seconds RetCode: 0 Status: WARNINGS CheckDir: ViSEAGO.Rcheck Warnings: 4