Package: ViSEAGO Version: 1.22.0 Command: /Library/Frameworks/R.framework/Resources/bin/R CMD check --install=check:ViSEAGO.install-out.txt --library=/Library/Frameworks/R.framework/Resources/library --no-vignettes --timings ViSEAGO_1.22.0.tar.gz StartedAt: 2025-04-22 00:18:13 -0400 (Tue, 22 Apr 2025) EndedAt: 2025-04-22 00:21:51 -0400 (Tue, 22 Apr 2025) EllapsedTime: 217.4 seconds RetCode: 0 Status: WARNINGS CheckDir: ViSEAGO.Rcheck Warnings: 4