Package: ViSEAGO Version: 1.22.0 Command: rm -rf ViSEAGO.buildbin-libdir && mkdir ViSEAGO.buildbin-libdir && /Users/biocbuild/BBS/utils/build-universal.sh ViSEAGO_1.22.0.tar.gz /Library/Frameworks/R.framework/Resources/bin/R ViSEAGO.buildbin-libdir StartedAt: 2025-04-22 01:14:56 -0400 (Tue, 22 Apr 2025) EndedAt: 2025-04-22 01:15:47 -0400 (Tue, 22 Apr 2025) EllapsedTime: 51.1 seconds RetCode: 0 Status: OK PackageFile: ViSEAGO_1.22.0.tgz PackageFileSize: 9.118 MiB