Package: ViSEAGO Version: 1.22.0 Command: /home/biocbuild/R/R/bin/R CMD check --install=check:ViSEAGO.install-out.txt --library=/home/biocbuild/R/R/site-library --no-vignettes --timings ViSEAGO_1.22.0.tar.gz StartedAt: 2025-08-12 15:01:32 -0000 (Tue, 12 Aug 2025) EndedAt: 2025-08-12 15:05:54 -0000 (Tue, 12 Aug 2025) EllapsedTime: 262.2 seconds RetCode: 0 Status: WARNINGS CheckDir: ViSEAGO.Rcheck Warnings: 4