Package: VennDetail Version: 1.24.0 Command: /home/biocbuild/bbs-3.21-bioc/R/bin/R CMD build --keep-empty-dirs --no-resave-data VennDetail StartedAt: 2025-10-15 20:28:50 -0400 (Wed, 15 Oct 2025) EndedAt: 2025-10-15 20:29:02 -0400 (Wed, 15 Oct 2025) EllapsedTime: 12.0 seconds RetCode: 1 Status: ERROR PackageFile: None PackageFileSize: NA