Package: VariantAnnotation Version: 1.54.1 Command: E:\biocbuild\bbs-3.21-bioc\R\bin\R.exe CMD check --no-multiarch --install=check:VariantAnnotation.install-out.txt --library=E:\biocbuild\bbs-3.21-bioc\R\library --no-vignettes --timings VariantAnnotation_1.54.1.tar.gz StartedAt: 2025-08-15 08:09:13 -0400 (Fri, 15 Aug 2025) EndedAt: 2025-08-15 08:20:25 -0400 (Fri, 15 Aug 2025) EllapsedTime: 672.0 seconds RetCode: 0 Status: WARNINGS CheckDir: VariantAnnotation.Rcheck Warnings: 2