Package: VanillaICE Version: 1.70.1 Command: chmod a+r VanillaICE -R && E:\biocbuild\bbs-3.21-bioc\R\bin\R.exe CMD build --keep-empty-dirs --no-resave-data VanillaICE StartedAt: 2025-08-14 22:52:46 -0400 (Thu, 14 Aug 2025) EndedAt: 2025-08-14 22:55:30 -0400 (Thu, 14 Aug 2025) EllapsedTime: 163.8 seconds RetCode: 0 Status: OK PackageFile: VanillaICE_1.70.1.tar.gz PackageFileSize: 1.8 MiB