Package: VanillaICE Version: 1.70.1 Command: /home/biocbuild/bbs-3.21-bioc/R/bin/R CMD INSTALL VanillaICE StartedAt: 2025-10-15 15:33:39 -0400 (Wed, 15 Oct 2025) EndedAt: 2025-10-15 15:34:14 -0400 (Wed, 15 Oct 2025) EllapsedTime: 34.6 seconds RetCode: 0 Status: OK