Package: VanillaICE Version: 1.70.1 Command: /Library/Frameworks/R.framework/Resources/bin/R CMD INSTALL VanillaICE StartedAt: 2025-10-13 16:02:39 -0400 (Mon, 13 Oct 2025) EndedAt: 2025-10-13 16:03:57 -0400 (Mon, 13 Oct 2025) EllapsedTime: 77.2 seconds RetCode: 0 Status: OK