Package: VanillaICE Version: 1.70.0 Command: /Library/Frameworks/R.framework/Resources/bin/R CMD check --install=check:VanillaICE.install-out.txt --library=/Library/Frameworks/R.framework/Resources/library --no-vignettes --timings VanillaICE_1.70.0.tar.gz StartedAt: 2025-04-22 00:17:06 -0400 (Tue, 22 Apr 2025) EndedAt: 2025-04-22 00:21:54 -0400 (Tue, 22 Apr 2025) EllapsedTime: 288.3 seconds RetCode: 0 Status: OK CheckDir: VanillaICE.Rcheck Warnings: 0