Package: VanillaICE Version: 1.70.1 Command: /home/biocbuild/R/R/bin/R CMD INSTALL VanillaICE StartedAt: 2025-10-13 20:49:42 -0000 (Mon, 13 Oct 2025) EndedAt: 2025-10-13 20:50:32 -0000 (Mon, 13 Oct 2025) EllapsedTime: 50.2 seconds RetCode: 0 Status: OK