Package: VanillaICE Version: 1.70.1 Command: /home/biocbuild/R/R/bin/R CMD check --install=check:VanillaICE.install-out.txt --library=/home/biocbuild/R/R/site-library --no-vignettes --timings VanillaICE_1.70.1.tar.gz StartedAt: 2025-10-10 15:10:57 -0000 (Fri, 10 Oct 2025) EndedAt: 2025-10-10 15:16:40 -0000 (Fri, 10 Oct 2025) EllapsedTime: 343.4 seconds RetCode: 0 Status: OK CheckDir: VanillaICE.Rcheck Warnings: 0