Package: VanillaICE Version: 1.70.1 Command: /home/biocbuild/R/R/bin/R CMD build --keep-empty-dirs --no-resave-data VanillaICE StartedAt: 2025-10-14 05:36:39 -0000 (Tue, 14 Oct 2025) EndedAt: 2025-10-14 05:38:00 -0000 (Tue, 14 Oct 2025) EllapsedTime: 81.1 seconds RetCode: 0 Status: OK PackageFile: VanillaICE_1.70.1.tar.gz PackageFileSize: 2.061 MiB