Package: VanillaICE Version: 1.70.1 Command: /Library/Frameworks/R.framework/Resources/bin/R CMD INSTALL VanillaICE StartedAt: 2025-10-13 17:01:32 -0400 (Mon, 13 Oct 2025) EndedAt: 2025-10-13 17:02:13 -0400 (Mon, 13 Oct 2025) EllapsedTime: 40.8 seconds RetCode: 0 Status: OK