Package: VanillaICE Version: 1.70.1 Command: /Library/Frameworks/R.framework/Resources/bin/R CMD build --keep-empty-dirs --no-resave-data VanillaICE StartedAt: 2025-10-14 11:38:05 -0400 (Tue, 14 Oct 2025) EndedAt: 2025-10-14 11:39:28 -0400 (Tue, 14 Oct 2025) EllapsedTime: 83.5 seconds RetCode: 0 Status: OK PackageFile: VanillaICE_1.70.1.tar.gz PackageFileSize: 2.071 MiB