Package: VanillaICE Version: 1.70.1 Command: rm -rf VanillaICE.buildbin-libdir && mkdir VanillaICE.buildbin-libdir && /Users/biocbuild/BBS/utils/build-universal.sh VanillaICE_1.70.1.tar.gz /Library/Frameworks/R.framework/Resources/bin/R VanillaICE.buildbin-libdir StartedAt: 2025-10-15 20:58:09 -0400 (Wed, 15 Oct 2025) EndedAt: 2025-10-15 20:58:57 -0400 (Wed, 15 Oct 2025) EllapsedTime: 47.6 seconds RetCode: 0 Status: OK PackageFile: VanillaICE_1.70.1.tgz PackageFileSize: 3.002 MiB