Package: VanillaICE Version: 1.70.1 Maintainer: Robert Scharpf MaintainerEmail: rscharpf at jhu.edu git_url: https://git.bioconductor.org/packages/VanillaICE git_branch: RELEASE_3_21 git_last_commit: 874022b git_last_commit_date: 2025-05-08 12:30:57 -0400 (Thu, 08 May 2025)