Package: VDJdive Version: 1.10.0 Command: /home/biocbuild/bbs-3.21-bioc/R/bin/R CMD build --keep-empty-dirs --no-resave-data VDJdive StartedAt: 2025-10-15 20:28:13 -0400 (Wed, 15 Oct 2025) EndedAt: 2025-10-15 20:28:54 -0400 (Wed, 15 Oct 2025) EllapsedTime: 41.0 seconds RetCode: 0 Status: OK PackageFile: VDJdive_1.10.0.tar.gz PackageFileSize: 541.7 KiB