Package: Uniquorn Version: 2.28.0 Command: chmod a+r Uniquorn -R && E:\biocbuild\bbs-3.21-bioc\R\bin\R.exe CMD build --keep-empty-dirs --no-resave-data Uniquorn StartedAt: 2025-08-14 22:52:09 -0400 (Thu, 14 Aug 2025) EndedAt: 2025-08-14 22:53:08 -0400 (Thu, 14 Aug 2025) EllapsedTime: 58.7 seconds RetCode: 0 Status: OK PackageFile: Uniquorn_2.28.0.tar.gz PackageFileSize: 2.196 MiB