Package: Uniquorn Version: 2.28.0 Command: rm -rf Uniquorn.buildbin-libdir && mkdir Uniquorn.buildbin-libdir && E:\biocbuild\bbs-3.21-bioc\R\bin\R.exe CMD INSTALL --build --library=Uniquorn.buildbin-libdir Uniquorn_2.28.0.tar.gz StartedAt: 2025-08-15 10:32:54 -0400 (Fri, 15 Aug 2025) EndedAt: 2025-08-15 10:33:45 -0400 (Fri, 15 Aug 2025) EllapsedTime: 51.1 seconds RetCode: 0 Status: OK PackageFile: Uniquorn_2.28.0.zip PackageFileSize: 2.276 MiB