Package: Uniquorn Version: 2.28.0 Command: /home/biocbuild/bbs-3.21-bioc/R/bin/R CMD check --install=check:Uniquorn.install-out.txt --library=/home/biocbuild/bbs-3.21-bioc/R/site-library --timings Uniquorn_2.28.0.tar.gz StartedAt: 2025-10-02 04:35:19 -0400 (Thu, 02 Oct 2025) EndedAt: 2025-10-02 04:39:58 -0400 (Thu, 02 Oct 2025) EllapsedTime: 279.3 seconds RetCode: 0 Status: OK CheckDir: Uniquorn.Rcheck Warnings: 0