Package: Uniquorn Version: 2.28.0 Command: /Library/Frameworks/R.framework/Resources/bin/R CMD check --install=check:Uniquorn.install-out.txt --library=/Library/Frameworks/R.framework/Resources/library --no-vignettes --timings Uniquorn_2.28.0.tar.gz StartedAt: 2025-10-07 11:53:26 -0400 (Tue, 07 Oct 2025) EndedAt: 2025-10-07 12:03:09 -0400 (Tue, 07 Oct 2025) EllapsedTime: 583.1 seconds RetCode: 0 Status: OK CheckDir: Uniquorn.Rcheck Warnings: 0