Package: Uniquorn Version: 2.28.0 Command: /home/biocbuild/R/R/bin/R CMD check --install=check:Uniquorn.install-out.txt --library=/home/biocbuild/R/R/site-library --no-vignettes --timings Uniquorn_2.28.0.tar.gz StartedAt: 2025-08-12 14:56:15 -0000 (Tue, 12 Aug 2025) EndedAt: 2025-08-12 15:02:38 -0000 (Tue, 12 Aug 2025) EllapsedTime: 383.3 seconds RetCode: 0 Status: OK CheckDir: Uniquorn.Rcheck Warnings: 0