Package: Uniquorn Version: 2.28.0 Command: /Library/Frameworks/R.framework/Resources/bin/R CMD build --keep-empty-dirs --no-resave-data Uniquorn StartedAt: 2025-04-21 17:56:37 -0400 (Mon, 21 Apr 2025) EndedAt: 2025-04-21 17:56:56 -0400 (Mon, 21 Apr 2025) EllapsedTime: 18.2 seconds RetCode: 0 Status: OK PackageFile: Uniquorn_2.28.0.tar.gz PackageFileSize: 2.196 MiB