Package: Uniquorn Version: 2.28.0 Command: /Library/Frameworks/R.framework/Resources/bin/R CMD check --install=check:Uniquorn.install-out.txt --library=/Library/Frameworks/R.framework/Resources/library --no-vignettes --timings Uniquorn_2.28.0.tar.gz StartedAt: 2025-10-04 15:49:14 -0400 (Sat, 04 Oct 2025) EndedAt: 2025-10-04 15:54:35 -0400 (Sat, 04 Oct 2025) EllapsedTime: 320.9 seconds RetCode: 0 Status: OK CheckDir: Uniquorn.Rcheck Warnings: 0