Package: UCell Version: 2.12.0 Command: /home/biocbuild/bbs-3.21-bioc/R/bin/R CMD INSTALL UCell StartedAt: 2025-10-15 15:18:08 -0400 (Wed, 15 Oct 2025) EndedAt: 2025-10-15 15:18:30 -0400 (Wed, 15 Oct 2025) EllapsedTime: 22.4 seconds RetCode: 0 Status: OK