Package: UCell Version: 2.12.0 Command: /home/biocbuild/bbs-3.21-bioc/R/bin/R CMD build --keep-empty-dirs --no-resave-data UCell StartedAt: 2025-10-15 20:25:59 -0400 (Wed, 15 Oct 2025) EndedAt: 2025-10-15 20:30:16 -0400 (Wed, 15 Oct 2025) EllapsedTime: 256.2 seconds RetCode: 0 Status: OK PackageFile: UCell_2.12.0.tar.gz PackageFileSize: 1.683 MiB