Package: UCell Version: 2.12.0 Command: rm -rf UCell.buildbin-libdir && mkdir UCell.buildbin-libdir && /Users/biocbuild/BBS/utils/build-universal.sh UCell_2.12.0.tar.gz /Library/Frameworks/R.framework/Resources/bin/R UCell.buildbin-libdir StartedAt: 2025-10-14 15:01:12 -0400 (Tue, 14 Oct 2025) EndedAt: 2025-10-14 15:02:18 -0400 (Tue, 14 Oct 2025) EllapsedTime: 66.2 seconds RetCode: 0 Status: OK PackageFile: UCell_2.12.0.tgz PackageFileSize: 1.707 MiB