Package: UCell Version: 2.12.0 Command: /home/biocbuild/R/R/bin/R CMD check --install=check:UCell.install-out.txt --library=/home/biocbuild/R/R/site-library --no-vignettes --timings UCell_2.12.0.tar.gz StartedAt: 2025-10-10 15:08:58 -0000 (Fri, 10 Oct 2025) EndedAt: 2025-10-10 15:13:00 -0000 (Fri, 10 Oct 2025) EllapsedTime: 241.4 seconds RetCode: 0 Status: OK CheckDir: UCell.Rcheck Warnings: 0