Package: UCell Version: 2.12.0 Command: /Library/Frameworks/R.framework/Resources/bin/R CMD INSTALL UCell StartedAt: 2025-04-21 15:12:05 -0400 (Mon, 21 Apr 2025) EndedAt: 2025-04-21 15:12:15 -0400 (Mon, 21 Apr 2025) EllapsedTime: 9.9 seconds RetCode: 0 Status: OK