Package: UCell Version: 2.12.0 Command: /Library/Frameworks/R.framework/Resources/bin/R CMD check --install=check:UCell.install-out.txt --library=/Library/Frameworks/R.framework/Resources/library --no-vignettes --timings UCell_2.12.0.tar.gz StartedAt: 2025-04-21 22:14:01 -0400 (Mon, 21 Apr 2025) EndedAt: 2025-04-21 22:15:16 -0400 (Mon, 21 Apr 2025) EllapsedTime: 74.9 seconds RetCode: 0 Status: OK CheckDir: UCell.Rcheck Warnings: 0