Package: UCell Version: 2.12.0 Command: /Library/Frameworks/R.framework/Resources/bin/R CMD build --keep-empty-dirs --no-resave-data UCell StartedAt: 2025-04-21 17:56:11 -0400 (Mon, 21 Apr 2025) EndedAt: 2025-04-21 17:59:02 -0400 (Mon, 21 Apr 2025) EllapsedTime: 171.0 seconds RetCode: 0 Status: OK PackageFile: UCell_2.12.0.tar.gz PackageFileSize: 1.676 MiB