Package: UCell Version: 2.12.0 Command: /Library/Frameworks/R.framework/Resources/bin/R CMD check --install=check:UCell.install-out.txt --library=/Library/Frameworks/R.framework/Resources/library --no-vignettes --timings UCell_2.12.0.tar.gz StartedAt: 2025-10-15 16:12:53 -0400 (Wed, 15 Oct 2025) EndedAt: 2025-10-15 16:16:29 -0400 (Wed, 15 Oct 2025) EllapsedTime: 215.1 seconds RetCode: 0 Status: OK CheckDir: UCell.Rcheck Warnings: 0