Package: UCell Version: 2.12.0 Command: /Library/Frameworks/R.framework/Resources/bin/R CMD build --keep-empty-dirs --no-resave-data UCell StartedAt: 2025-10-14 11:33:49 -0400 (Tue, 14 Oct 2025) EndedAt: 2025-10-14 11:41:33 -0400 (Tue, 14 Oct 2025) EllapsedTime: 464.3 seconds RetCode: 0 Status: OK PackageFile: UCell_2.12.0.tar.gz PackageFileSize: 1.677 MiB