Package: UCell Version: 2.12.0 Maintainer: Massimo Andreatta MaintainerEmail: massimo.andreatta at unil.ch git_url: https://git.bioconductor.org/packages/UCell git_branch: RELEASE_3_21 git_last_commit: af3d550 git_last_commit_date: 2025-04-15 12:46:43 -0400 (Tue, 15 Apr 2025)