Package: TurboNorm Version: 1.56.0 Command: /Library/Frameworks/R.framework/Resources/bin/R CMD check --install=check:TurboNorm.install-out.txt --library=/Library/Frameworks/R.framework/Resources/library --no-vignettes --timings TurboNorm_1.56.0.tar.gz StartedAt: 2025-10-15 16:08:53 -0400 (Wed, 15 Oct 2025) EndedAt: 2025-10-15 16:10:19 -0400 (Wed, 15 Oct 2025) EllapsedTime: 86.0 seconds RetCode: 0 Status: OK CheckDir: TurboNorm.Rcheck Warnings: 0