Package: TreeAndLeaf Version: 1.20.0 Command: E:\biocbuild\bbs-3.21-bioc\R\bin\R.exe CMD INSTALL TreeAndLeaf StartedAt: 2025-08-14 15:26:13 -0400 (Thu, 14 Aug 2025) EndedAt: 2025-08-14 15:26:47 -0400 (Thu, 14 Aug 2025) EllapsedTime: 33.4 seconds RetCode: 0 Status: OK