Package: ToxicoGx Version: 2.12.0 Command: E:\biocbuild\bbs-3.21-bioc\R\bin\R.exe CMD INSTALL ToxicoGx StartedAt: 2025-08-14 16:20:11 -0400 (Thu, 14 Aug 2025) EndedAt: 2025-08-14 16:21:23 -0400 (Thu, 14 Aug 2025) EllapsedTime: 72.5 seconds RetCode: 0 Status: OK