Package: ToxicoGx Version: 2.12.0 Command: /Library/Frameworks/R.framework/Resources/bin/R CMD check --install=check:ToxicoGx.install-out.txt --library=/Library/Frameworks/R.framework/Resources/library --no-vignettes --timings ToxicoGx_2.12.0.tar.gz StartedAt: 2025-10-15 15:37:59 -0400 (Wed, 15 Oct 2025) EndedAt: 2025-10-15 15:43:14 -0400 (Wed, 15 Oct 2025) EllapsedTime: 314.9 seconds RetCode: 0 Status: OK CheckDir: ToxicoGx.Rcheck Warnings: 0