Package: ToxicoGx Version: 2.12.0 Command: /Library/Frameworks/R.framework/Resources/bin/R CMD build --keep-empty-dirs --no-resave-data ToxicoGx StartedAt: 2025-10-14 11:12:40 -0400 (Tue, 14 Oct 2025) EndedAt: 2025-10-14 11:13:49 -0400 (Tue, 14 Oct 2025) EllapsedTime: 68.8 seconds RetCode: 0 Status: OK PackageFile: ToxicoGx_2.12.0.tar.gz PackageFileSize: 3.937 MiB