Package: TnT Version: 1.30.0 Command: E:\biocbuild\bbs-3.21-bioc\R\bin\R.exe CMD INSTALL TnT StartedAt: 2025-08-14 15:50:00 -0400 (Thu, 14 Aug 2025) EndedAt: 2025-08-14 15:50:36 -0400 (Thu, 14 Aug 2025) EllapsedTime: 35.9 seconds RetCode: 0 Status: OK